BEGIN:VCALENDAR
VERSION:2.0
PRODID:icalendar-ruby
CALSCALE:GREGORIAN
BEGIN:VEVENT
DTSTAMP:20260420T144938Z
UID:fd94e204-237d-40ba-ad2b-89322fe39218
DTSTART:20240328T203000
DTEND:20240328T213000
DESCRIPTION:Ein Service von PROUDY.de. Mehr Informationen unter https://www
 .proudy.de/de/events/109619.
SUMMARY:gelinde gesagt
END:VEVENT
END:VCALENDAR
