BEGIN:VCALENDAR
VERSION:2.0
PRODID:icalendar-ruby
CALSCALE:GREGORIAN
BEGIN:VEVENT
DTSTAMP:20260423T182605Z
UID:20e2a35a-d822-41cb-85c9-20acc9d6defc
DTSTART:20260512T180000
DTEND:20260512T190000
DESCRIPTION:Ein Service von PROUDY.de. Mehr Informationen unter https://www
 .proudy.de/de/events/109892.
SUMMARY:Treffpunkt Kunst
END:VEVENT
END:VCALENDAR
