BEGIN:VCALENDAR
VERSION:2.0
PRODID:icalendar-ruby
CALSCALE:GREGORIAN
BEGIN:VEVENT
DTSTAMP:20260426T005752Z
UID:0d419140-6bae-4e2a-858e-9cbb20c42dde
DTSTART:20260425T220000
DTEND:20260425T230000
DESCRIPTION:Ein Service von PROUDY.de. Mehr Informationen unter https://www
 .proudy.de/de/events/111348.
SUMMARY:Rotate
END:VEVENT
END:VCALENDAR
