BEGIN:VCALENDAR
VERSION:2.0
PRODID:icalendar-ruby
CALSCALE:GREGORIAN
BEGIN:VEVENT
DTSTAMP:20260422T213345Z
UID:ed93939e-dcb1-425b-b8ee-9298a1a6d16f
DTSTART:20260422T190000
DTEND:20260422T200000
DESCRIPTION:Ein Service von PROUDY.de. Mehr Informationen unter https://www
 .proudy.de/de/events/120012.
SUMMARY:Handkuss Comedy Night
END:VEVENT
END:VCALENDAR
