BEGIN:VCALENDAR
VERSION:2.0
PRODID:icalendar-ruby
CALSCALE:GREGORIAN
BEGIN:VEVENT
DTSTAMP:20260426T024245Z
UID:1ce77768-45cf-4dbf-8162-4751a98ec07a
DTSTART:20260426T110000
DTEND:20260426T120000
DESCRIPTION:Ein Service von PROUDY.de. Mehr Informationen unter https://www
 .proudy.de/de/events/120135.
SUMMARY:Brunch für Regenbogenfamilien
END:VEVENT
END:VCALENDAR
