BEGIN:VCALENDAR
VERSION:2.0
PRODID:icalendar-ruby
CALSCALE:GREGORIAN
BEGIN:VEVENT
DTSTAMP:20260424T142924Z
UID:88142075-4cd3-4262-afb1-150940a70787
DTSTART:20260424T190000
DTEND:20260424T200000
DESCRIPTION:Ein Service von PROUDY.de. Mehr Informationen unter https://www
 .proudy.de/de/events/120696.
SUMMARY:Dies & Das
END:VEVENT
END:VCALENDAR
