BEGIN:VCALENDAR
VERSION:2.0
PRODID:icalendar-ruby
CALSCALE:GREGORIAN
BEGIN:VEVENT
DTSTAMP:20260423T144225Z
UID:62dd2664-996b-4f29-870f-923c7fea2c2a
DTSTART:20260423T180000
DTEND:20260423T190000
DESCRIPTION:Ein Service von PROUDY.de. Mehr Informationen unter https://www
 .proudy.de/de/events/121739.
SUMMARY:Treffpunkt Gutenberg
END:VEVENT
END:VCALENDAR
