BEGIN:VCALENDAR
VERSION:2.0
PRODID:icalendar-ruby
CALSCALE:GREGORIAN
BEGIN:VEVENT
DTSTAMP:20260419T181202Z
UID:273e758a-4dc3-4db2-9918-4b954b4c04be
DTSTART:20260419T170000
DTEND:20260419T180000
DESCRIPTION:Ein Service von PROUDY.de. Mehr Informationen unter https://www
 .proudy.de/de/events/126704.
SUMMARY:Villa Musica: Musik in der Synagoge
END:VEVENT
END:VCALENDAR
