BEGIN:VCALENDAR
VERSION:2.0
PRODID:icalendar-ruby
CALSCALE:GREGORIAN
BEGIN:VEVENT
DTSTAMP:20260426T005216Z
UID:c65b2e32-d299-415a-addf-87713bb22670
DTSTART:20260425T230000
DTEND:20260426T000000
DESCRIPTION:Ein Service von PROUDY.de. Mehr Informationen unter https://www
 .proudy.de/de/events/126879.
SUMMARY:Tacheles
END:VEVENT
END:VCALENDAR
