BEGIN:VCALENDAR
VERSION:2.0
PRODID:icalendar-ruby
CALSCALE:GREGORIAN
BEGIN:VEVENT
DTSTAMP:20260426T005359Z
UID:866fd801-c2e1-4174-949c-b4baa8d1045b
DTSTART:20260425T220000
DTEND:20260425T230000
DESCRIPTION:Ein Service von PROUDY.de. Mehr Informationen unter https://www
 .proudy.de/de/events/128927.
SUMMARY:Red & Green Flag
END:VEVENT
END:VCALENDAR
