BEGIN:VCALENDAR
VERSION:2.0
PRODID:icalendar-ruby
CALSCALE:GREGORIAN
BEGIN:VEVENT
DTSTAMP:20260422T012328Z
UID:c2d87f21-96ee-4de2-aa1f-e4c6634fafae
DTSTART:20260422T180000
DTEND:20260422T190000
DESCRIPTION:Ein Service von PROUDY.de. Mehr Informationen unter https://www
 .proudy.de/de/events/129995.
SUMMARY:Schreibtreff Mainz
END:VEVENT
END:VCALENDAR
