BEGIN:VCALENDAR
VERSION:2.0
PRODID:icalendar-ruby
CALSCALE:GREGORIAN
BEGIN:VEVENT
DTSTAMP:20260421T085055Z
UID:76b72dd9-cca0-4b5e-b1f6-5e0e58c36f7d
DTSTART:20260426T200000
DTEND:20260426T210000
DESCRIPTION:Ein Service von PROUDY.de. Mehr Informationen unter https://www
 .proudy.de/de/events/130515.
SUMMARY:Connemara
END:VEVENT
END:VCALENDAR
