BEGIN:VCALENDAR
VERSION:2.0
PRODID:icalendar-ruby
CALSCALE:GREGORIAN
BEGIN:VEVENT
DTSTAMP:20260421T120329Z
UID:21d8dcd9-2969-456d-a9ee-e853662063f8
DTSTART:20260421T100000
DTEND:20260421T110000
DESCRIPTION:Ein Service von PROUDY.de. Mehr Informationen unter https://www
 .proudy.de/de/events/130993.
SUMMARY:Just: dokoła pokola
END:VEVENT
END:VCALENDAR
