BEGIN:VCALENDAR
VERSION:2.0
PRODID:icalendar-ruby
CALSCALE:GREGORIAN
BEGIN:VEVENT
DTSTAMP:20260419T205829Z
UID:9503bf15-a410-4be1-96b1-2c5334809773
DTSTART:20260419T193000
DTEND:20260419T203000
DESCRIPTION:Ein Service von PROUDY.de. Mehr Informationen unter https://www
 .proudy.de/de/events/131585.
SUMMARY:Wolfgang „Wolfi“ Klein / Caro Trischler / Ulf Kleiner
END:VEVENT
END:VCALENDAR
