BEGIN:VCALENDAR
VERSION:2.0
PRODID:icalendar-ruby
CALSCALE:GREGORIAN
BEGIN:VEVENT
DTSTAMP:20260419T205742Z
UID:39e0195e-9dbe-4662-8a70-008eb3e9b700
DTSTART:20260419T180000
DTEND:20260419T190000
DESCRIPTION:Ein Service von PROUDY.de. Mehr Informationen unter https://www
 .proudy.de/de/events/131721.
SUMMARY:Club Quiz by Monte Quizto
END:VEVENT
END:VCALENDAR
