BEGIN:VCALENDAR
VERSION:2.0
PRODID:icalendar-ruby
CALSCALE:GREGORIAN
BEGIN:VEVENT
DTSTAMP:20260419T145427Z
UID:bf8aa348-8bb1-401f-b599-a1961e427ef2
DTSTART:20260419T150000
DTEND:20260419T160000
DESCRIPTION:Ein Service von PROUDY.de. Mehr Informationen unter https://www
 .proudy.de/de/events/131773.
SUMMARY:Wishmob Theater: Anton Wassermanns Geburtstag
END:VEVENT
END:VCALENDAR
