BEGIN:VCALENDAR
VERSION:2.0
PRODID:icalendar-ruby
CALSCALE:GREGORIAN
BEGIN:VEVENT
DTSTAMP:20260419T150544Z
UID:b4453753-74a2-4164-b61c-0bb46133faf5
DTSTART:20260419T150000
DTEND:20260419T160000
DESCRIPTION:Ein Service von PROUDY.de. Mehr Informationen unter https://www
 .proudy.de/de/events/132269.
SUMMARY:Führung: Barbara Proschak Bewegte Ordnung
END:VEVENT
END:VCALENDAR
