BEGIN:VCALENDAR
VERSION:2.0
PRODID:icalendar-ruby
CALSCALE:GREGORIAN
BEGIN:VEVENT
DTSTAMP:20260424T143248Z
UID:6ef7381d-bda6-4258-b55d-d7021f8b1ac2
DTSTART:20260424T190000
DTEND:20260424T200000
DESCRIPTION:Ein Service von PROUDY.de. Mehr Informationen unter https://www
 .proudy.de/de/events/132270.
SUMMARY:Artist Talk
END:VEVENT
END:VCALENDAR
