BEGIN:VCALENDAR
VERSION:2.0
PRODID:icalendar-ruby
CALSCALE:GREGORIAN
BEGIN:VEVENT
DTSTAMP:20260426T010318Z
UID:b4e93c94-23ed-4c33-9c25-6bbcc36d977a
DTSTART:20260425T230000
DTEND:20260426T000000
DESCRIPTION:Ein Service von PROUDY.de. Mehr Informationen unter https://www
 .proudy.de/de/events/132307.
SUMMARY:KaaCee KomaCasper
END:VEVENT
END:VCALENDAR
