BEGIN:VCALENDAR
VERSION:2.0
PRODID:icalendar-ruby
CALSCALE:GREGORIAN
BEGIN:VEVENT
DTSTAMP:20260419T130835Z
UID:83593b8b-be22-4479-a0e1-77d8db886c8f
DTSTART:20260415T193000
DTEND:20260415T203000
DESCRIPTION:Ein Service von PROUDY.de. Mehr Informationen unter https://www
 .proudy.de/de/events/132394.
SUMMARY:Katie Freudenschuss: Nichts bleibt wie es wird
END:VEVENT
END:VCALENDAR
