BEGIN:VCALENDAR
VERSION:2.0
PRODID:icalendar-ruby
CALSCALE:GREGORIAN
BEGIN:VEVENT
DTSTAMP:20260419T205937Z
UID:f2b6dcd1-c8ad-4ad4-8643-40b44a175b4c
DTSTART:20260419T190000
DTEND:20260419T200000
DESCRIPTION:Ein Service von PROUDY.de. Mehr Informationen unter https://www
 .proudy.de/de/events/132480.
SUMMARY:Skerryvore
END:VEVENT
END:VCALENDAR
