BEGIN:VCALENDAR
VERSION:2.0
PRODID:icalendar-ruby
CALSCALE:GREGORIAN
BEGIN:VEVENT
DTSTAMP:20260424T142853Z
UID:fa4b8dc1-c11c-4ba4-8dbb-bf77aeca24a8
DTSTART:20260424T190000
DTEND:20260424T200000
DESCRIPTION:Ein Service von PROUDY.de. Mehr Informationen unter https://www
 .proudy.de/de/events/132482.
SUMMARY:SWR Kultur Internationale Pianisten - Lise de la Salle
END:VEVENT
END:VCALENDAR
