BEGIN:VCALENDAR
VERSION:2.0
PRODID:icalendar-ruby
CALSCALE:GREGORIAN
BEGIN:VEVENT
DTSTAMP:20260424T143705Z
UID:d7c026c3-92c6-4223-9479-b95ecb79f53e
DTSTART:20260424T190000
DTEND:20260424T200000
DESCRIPTION:Ein Service von PROUDY.de. Mehr Informationen unter https://www
 .proudy.de/de/events/132499.
SUMMARY:Crooners
END:VEVENT
END:VCALENDAR
