BEGIN:VCALENDAR
VERSION:2.0
PRODID:icalendar-ruby
CALSCALE:GREGORIAN
BEGIN:VEVENT
DTSTAMP:20260421T085458Z
UID:9a0415b3-840c-4c16-82c9-7315d8c99ad2
DTSTART:20260415T200000
DTEND:20260415T210000
DESCRIPTION:Ein Service von PROUDY.de. Mehr Informationen unter https://www
 .proudy.de/de/events/132505.
SUMMARY:Luksan Wunder – Dr. Edeljoghurts Multimedia Panoptikum 2
END:VEVENT
END:VCALENDAR
