BEGIN:VCALENDAR
VERSION:2.0
PRODID:icalendar-ruby
CALSCALE:GREGORIAN
BEGIN:VEVENT
DTSTAMP:20260421T085754Z
UID:4348a4f4-1f16-465c-92f2-23c49de50acd
DTSTART:20260415T200000
DTEND:20260415T210000
DESCRIPTION:Ein Service von PROUDY.de. Mehr Informationen unter https://www
 .proudy.de/de/events/132526.
SUMMARY:Blömer // Tillack: Doppelt Held Besser
END:VEVENT
END:VCALENDAR
