BEGIN:VCALENDAR
VERSION:2.0
PRODID:icalendar-ruby
CALSCALE:GREGORIAN
BEGIN:VEVENT
DTSTAMP:20260424T143434Z
UID:622ba7e8-b2bd-40b3-b947-79af59ac3415
DTSTART:20260424T190000
DTEND:20260424T200000
DESCRIPTION:Ein Service von PROUDY.de. Mehr Informationen unter https://www
 .proudy.de/de/events/132556.
SUMMARY:Hagen Rether – Liebe
END:VEVENT
END:VCALENDAR
