BEGIN:VCALENDAR
VERSION:2.0
PRODID:icalendar-ruby
CALSCALE:GREGORIAN
BEGIN:VEVENT
DTSTAMP:20260426T005828Z
UID:b55b990f-b8e9-46a2-888a-12d8900ffa95
DTSTART:20260425T230000
DTEND:20260426T000000
DESCRIPTION:Ein Service von PROUDY.de. Mehr Informationen unter https://www
 .proudy.de/de/events/132563.
SUMMARY:SCAD
END:VEVENT
END:VCALENDAR
