BEGIN:VCALENDAR
VERSION:2.0
PRODID:icalendar-ruby
CALSCALE:GREGORIAN
BEGIN:VEVENT
DTSTAMP:20260421T115440Z
UID:8bbbdffc-0c8f-4890-85f9-652683f468c7
DTSTART:20260421T180000
DTEND:20260421T190000
DESCRIPTION:Ein Service von PROUDY.de. Mehr Informationen unter https://www
 .proudy.de/de/events/132634.
SUMMARY:Einblick: Breaking the Waves
END:VEVENT
END:VCALENDAR
