BEGIN:VCALENDAR
VERSION:2.0
PRODID:icalendar-ruby
CALSCALE:GREGORIAN
BEGIN:VEVENT
DTSTAMP:20260420T135800Z
UID:e665ead6-74c9-4678-a9ca-7f02c8e9f189
DTSTART:20260420T200000
DTEND:20260420T210000
DESCRIPTION:Ein Service von PROUDY.de. Mehr Informationen unter https://www
 .proudy.de/de/events/132654.
SUMMARY:Die Erinnerung ist launisch
END:VEVENT
END:VCALENDAR
