BEGIN:VCALENDAR
VERSION:2.0
PRODID:icalendar-ruby
CALSCALE:GREGORIAN
BEGIN:VEVENT
DTSTAMP:20260424T173331Z
UID:0deddca1-c4ce-447f-b07e-e056f3b0ae79
DTSTART:20260424T193000
DTEND:20260424T203000
DESCRIPTION:Ein Service von PROUDY.de. Mehr Informationen unter https://www
 .proudy.de/de/events/132671.
SUMMARY:Michael Krebs // Optimismus – jetzt stark reduziert
END:VEVENT
END:VCALENDAR
