BEGIN:VCALENDAR
VERSION:2.0
PRODID:icalendar-ruby
CALSCALE:GREGORIAN
BEGIN:VEVENT
DTSTAMP:20260420T001736Z
UID:12c98eba-d818-43e2-afb2-82d49d57b203
DTSTART:20260420T200000
DTEND:20260420T210000
DESCRIPTION:Ein Service von PROUDY.de. Mehr Informationen unter https://www
 .proudy.de/de/events/132703.
SUMMARY:Ganz schön Jazz mit Grounding
END:VEVENT
END:VCALENDAR
