BEGIN:VCALENDAR
VERSION:2.0
PRODID:icalendar-ruby
CALSCALE:GREGORIAN
BEGIN:VEVENT
DTSTAMP:20260421T234540Z
UID:d9c8d3c3-0f2b-465d-8b51-d801d4973a72
DTSTART:20260422T153000
DTEND:20260422T163000
DESCRIPTION:Ein Service von PROUDY.de. Mehr Informationen unter https://www
 .proudy.de/de/events/132733.
SUMMARY:Zwischen Stich und Linie – Achtsames Zeichnen in der Ausstellung 
 mit Anne Nilges
END:VEVENT
END:VCALENDAR
