BEGIN:VCALENDAR
VERSION:2.0
PRODID:icalendar-ruby
CALSCALE:GREGORIAN
BEGIN:VEVENT
DTSTAMP:20260422T143207Z
UID:b7872450-8c6e-45c1-bcab-0ecac9470b56
DTSTART:20260422T180000
DTEND:20260422T190000
DESCRIPTION:Ein Service von PROUDY.de. Mehr Informationen unter https://www
 .proudy.de/de/events/132734.
SUMMARY:Fade into You Filmscreening 
END:VEVENT
END:VCALENDAR
