BEGIN:VCALENDAR
VERSION:2.0
PRODID:icalendar-ruby
CALSCALE:GREGORIAN
BEGIN:VEVENT
DTSTAMP:20260423T101822Z
UID:a3adb68e-6f09-47c5-af74-b340d0c1a79e
DTSTART:20260421T180000
DTEND:20260421T190000
DESCRIPTION:Ein Service von PROUDY.de. Mehr Informationen unter https://www
 .proudy.de/de/events/132744.
SUMMARY:Führung: Werkgeschichten. 10 Jahre Provenienzforschung am Landesmu
 seum Mainz
END:VEVENT
END:VCALENDAR
