BEGIN:VCALENDAR
VERSION:2.0
PRODID:icalendar-ruby
CALSCALE:GREGORIAN
BEGIN:VEVENT
DTSTAMP:20260419T230744Z
UID:153b3f21-3204-45b5-9dc3-7bb70c6050f7
DTSTART:20260419T200000
DTEND:20260419T210000
DESCRIPTION:Ein Service von PROUDY.de. Mehr Informationen unter https://www
 .proudy.de/de/events/132812.
SUMMARY:Panic Shack
END:VEVENT
END:VCALENDAR
