BEGIN:VCALENDAR
VERSION:2.0
PRODID:icalendar-ruby
CALSCALE:GREGORIAN
BEGIN:VEVENT
DTSTAMP:20260420T135952Z
UID:4cf77fe9-32ec-4a56-a23e-804ca821b271
DTSTART:20260420T200000
DTEND:20260420T210000
DESCRIPTION:Ein Service von PROUDY.de. Mehr Informationen unter https://www
 .proudy.de/de/events/132813.
SUMMARY:Hundreds
END:VEVENT
END:VCALENDAR
