BEGIN:VCALENDAR
VERSION:2.0
PRODID:icalendar-ruby
CALSCALE:GREGORIAN
BEGIN:VEVENT
DTSTAMP:20260426T005645Z
UID:f8d082b4-4f3d-4ef4-9c44-b284e6e5bcbf
DTSTART:20260425T230000
DTEND:20260426T000000
DESCRIPTION:Ein Service von PROUDY.de. Mehr Informationen unter https://www
 .proudy.de/de/events/132819.
SUMMARY:Die Goeast Party 2026
END:VEVENT
END:VCALENDAR
