BEGIN:VCALENDAR
VERSION:2.0
PRODID:icalendar-ruby
CALSCALE:GREGORIAN
BEGIN:VEVENT
DTSTAMP:20260423T144511Z
UID:76fd588e-0603-4058-abf7-81ca559da129
DTSTART:20260423T193000
DTEND:20260423T203000
DESCRIPTION:Ein Service von PROUDY.de. Mehr Informationen unter https://www
 .proudy.de/de/events/132839.
SUMMARY:Defend Democracy!
END:VEVENT
END:VCALENDAR
