BEGIN:VCALENDAR
VERSION:2.0
PRODID:icalendar-ruby
CALSCALE:GREGORIAN
BEGIN:VEVENT
DTSTAMP:20260424T142459Z
UID:b7b8aeb0-fa61-4411-944e-85f8a9481cf8
DTSTART:20260424T140000
DTEND:20260424T150000
DESCRIPTION:Ein Service von PROUDY.de. Mehr Informationen unter https://www
 .proudy.de/de/events/132855.
SUMMARY:Response
END:VEVENT
END:VCALENDAR
