BEGIN:VCALENDAR
VERSION:2.0
PRODID:icalendar-ruby
CALSCALE:GREGORIAN
BEGIN:VEVENT
DTSTAMP:20260424T142339Z
UID:a662d338-13d0-41a7-b0c7-b9317b820ff0
DTSTART:20260424T180000
DTEND:20260424T190000
DESCRIPTION:Ein Service von PROUDY.de. Mehr Informationen unter https://www
 .proudy.de/de/events/132855.
SUMMARY:Response
END:VEVENT
END:VCALENDAR
