BEGIN:VCALENDAR
VERSION:2.0
PRODID:icalendar-ruby
CALSCALE:GREGORIAN
BEGIN:VEVENT
DTSTAMP:20260419T205629Z
UID:a532b7b1-d5bb-4b72-870c-9f3e46a44740
DTSTART:20260419T190000
DTEND:20260419T200000
DESCRIPTION:Ein Service von PROUDY.de. Mehr Informationen unter https://www
 .proudy.de/de/events/132861.
SUMMARY:Tapetenwechsel: mit Googoosh und Hildegard Knef durch die Nacht
END:VEVENT
END:VCALENDAR
