BEGIN:VCALENDAR
VERSION:2.0
PRODID:icalendar-ruby
CALSCALE:GREGORIAN
BEGIN:VEVENT
DTSTAMP:20260421T084427Z
UID:55f4feeb-98b2-46db-96d8-9d0efadf9a6c
DTSTART:20260415T193000
DTEND:20260415T203000
DESCRIPTION:Ein Service von PROUDY.de. Mehr Informationen unter https://www
 .proudy.de/de/events/132870.
SUMMARY:6. Sinfoniekonzert: Frühe Klassik
END:VEVENT
END:VCALENDAR
