BEGIN:VCALENDAR
VERSION:2.0
PRODID:icalendar-ruby
CALSCALE:GREGORIAN
BEGIN:VEVENT
DTSTAMP:20260419T150739Z
UID:590196f6-3715-4884-a81d-15ef16966954
DTSTART:20260419T150000
DTEND:20260419T160000
DESCRIPTION:Ein Service von PROUDY.de. Mehr Informationen unter https://www
 .proudy.de/de/events/132884.
SUMMARY:Oper Aktiv!: Der Opernkoffer
END:VEVENT
END:VCALENDAR
