BEGIN:VCALENDAR
VERSION:2.0
PRODID:icalendar-ruby
CALSCALE:GREGORIAN
BEGIN:VEVENT
DTSTAMP:20260420T112843Z
UID:e66f3f81-b1cc-4533-bbc4-c30cf03703d5
DTSTART:20260420T200000
DTEND:20260420T210000
DESCRIPTION:Ein Service von PROUDY.de. Mehr Informationen unter https://www
 .proudy.de/de/events/132903.
SUMMARY: Das Synthetische Mischgewebe + auvikogue + Erstes Mainzer Triangel
 orchester
END:VEVENT
END:VCALENDAR
