BEGIN:VCALENDAR
VERSION:2.0
PRODID:icalendar-ruby
CALSCALE:GREGORIAN
BEGIN:VEVENT
DTSTAMP:20260422T210859Z
UID:5195f6e4-3bad-42dc-9438-d9551ed81019
DTSTART:20260422T190000
DTEND:20260422T200000
DESCRIPTION:Ein Service von PROUDY.de. Mehr Informationen unter https://www
 .proudy.de/de/events/132924.
SUMMARY:Lesende Lesben
END:VEVENT
END:VCALENDAR
