BEGIN:VCALENDAR
VERSION:2.0
PRODID:icalendar-ruby
CALSCALE:GREGORIAN
BEGIN:VEVENT
DTSTAMP:20260421T234423Z
UID:1ac338af-acfe-43d1-a2ec-5978d765f903
DTSTART:20260422T150000
DTEND:20260422T160000
DESCRIPTION:Ein Service von PROUDY.de. Mehr Informationen unter https://www
 .proudy.de/de/events/132942.
SUMMARY:Tanzcafé Mainz-Neustadt
END:VEVENT
END:VCALENDAR
