BEGIN:VCALENDAR
VERSION:2.0
PRODID:icalendar-ruby
CALSCALE:GREGORIAN
BEGIN:VEVENT
DTSTAMP:20260419T232130Z
UID:8bc1e277-9b24-4034-aae2-d8c337dc1cf1
DTSTART:20260420T150000
DTEND:20260420T160000
DESCRIPTION:Ein Service von PROUDY.de. Mehr Informationen unter https://www
 .proudy.de/de/events/132952.
SUMMARY:Kamishibai: Trudi traut sich
END:VEVENT
END:VCALENDAR
