BEGIN:VCALENDAR
VERSION:2.0
PRODID:icalendar-ruby
CALSCALE:GREGORIAN
BEGIN:VEVENT
DTSTAMP:20260421T115949Z
UID:28c91811-b22e-45cd-9c07-52784ebff462
DTSTART:20260421T150000
DTEND:20260421T160000
DESCRIPTION:Ein Service von PROUDY.de. Mehr Informationen unter https://www
 .proudy.de/de/events/132953.
SUMMARY:Kamishibai: Trudi traut sich
END:VEVENT
END:VCALENDAR
