BEGIN:VCALENDAR
VERSION:2.0
PRODID:icalendar-ruby
CALSCALE:GREGORIAN
BEGIN:VEVENT
DTSTAMP:20260419T231453Z
UID:471ed2db-67c6-4218-afdb-f0adb1020f9b
DTSTART:20260420T183000
DTEND:20260420T193000
DESCRIPTION:Ein Service von PROUDY.de. Mehr Informationen unter https://www
 .proudy.de/de/events/132956.
SUMMARY:HörBar: Emilie Mayer
END:VEVENT
END:VCALENDAR
