BEGIN:VCALENDAR
VERSION:2.0
PRODID:icalendar-ruby
CALSCALE:GREGORIAN
BEGIN:VEVENT
DTSTAMP:20260421T165214Z
UID:b54f8093-6bbf-42f2-bb99-54ce5f026d96
DTSTART:20260421T193000
DTEND:20260421T203000
DESCRIPTION:Ein Service von PROUDY.de. Mehr Informationen unter https://www
 .proudy.de/de/events/132957.
SUMMARY:Eine Quelle wird lebendig: Das „Aschaffenburger Clavierbuch“
END:VEVENT
END:VCALENDAR
